Workbook
Name _FAC1: [1]สรุป!$C$307
Name factor_table: 'คำนวณ Factor F'!$B$10:$B$33

Sheet laroux

Sheet ปะหน้า
B1: สรุปผลการประมาณราคาค่าก่อสร้าง
B2: ส่วนราชการ งานพัสดุ กลุ่มงานบริหารทั่วไป สำนักงานสาธารณสุขจังหวัดลำปาง
C3: ประเภท | D3: =Boq!D2 -> รั้วพร้อมป้ายชื่อสำนักงานสาธารณสุขอำเภอเถิน
C4: เจ้าของอาคาร | D4: =Boq!D3 -> สำนักงานสาธารณสุขอำเภอเถิน อำเภอเถิน จังหวัดลำปาง
C5: หน่วยงานออกแบบแปลนและรายการ | F5: งานพัสดุ สำนักงานสาธารณสุขจังหวัดลำปาง
C6: แบบเลขที่ | D6: =Boq!J2 -> 0 | H6: พื้นที่อาคาร | J6: ตร.ม.
C7: ประมาณราคาตามแบบ ปร.4 | E7: จำนวน | F7: 7 | G7: แผ่น | H7: จำนวนชั้น | I7: 1 | J7: ชั้น
C8: ประมาณราคาเมื่อ เดือน | E8: ธันวาคม 2568
B10: หลักเกณฑ์การกำหนดราคากลางงานก่อสร้าง หนังสือกระทรวงการคลังที่ กค 0433.2/ว499 ลงวันที่ 28 สิงหาคม 2566
B11: FACTOR . F ประเภทงานอาคาร เงื่อนไข - เงินล่วงหน้าจ่าย 0% , - เงินประกันผลงานหัก 0 % , - ดอกเบี้ยเงินกู้ 7 % , ค่าภาษีมูลค่าเพิ่ม 7 %
B13: ลำดับที่ | C13: รายการ | H13: ราคาค่าก่อสร้างชนิดฐานราก | J13: หมายเหตุ
H14: ไม่ตอกเสาเข็ม
B15: 1 | C15: ค่างานส่วนที่ 1 ค่าวัสดุและค่าแรงงานหมวดงานก่อสร้าง (ทุน) | H15: =สรุปหมวดงาน!E38 -> 1106181.6
C16: ราคารวมค่า Factor F | F16: ='คำนวณ Factor F'!C14 -> 1.3065 | H16: =H15*F16 -> 1445226.3
B17: 2 | C17: ค่างานส่วนที่ 2 หมวดงานครุภัณฑ์สั่งซื้อหรือจัดซื้อ | H17: 0
C18: ราคารวมค่าภาษีมูลค่าเพิ่ม (VAT) | F18: 7 % | H18: =H17*F18+(H17) -> 0
B19: 3 | C19: ค่างานส่วนที่ 3 ค่าใช้จ่ายพิเศษตามข้อกำหนด (ถ้ามี) | H19: =[2]สรุปหมวดงาน!E53 -> 0
B21: รวมเงิน (1)+(2)+(3) | H21: =H16+H18+H19 -> 1445226.3
B22: คิดเป็นเงินทั้งสิ้นโดยประมาณ | H22: =L22 -> 1445200 | L22: =(CEILING(INT(H21/50),2))*50 -> 1445200
C23: =BAHTTEXT(H22) -> หนึ่งล้านสี่แสนสี่หมื่นห้าพันสองร้อยบาทถ้วน
B27: ผู้ปรับราคา คณะกรรมการกำหนดราคากลางงานก่อสร้าง ตามคำสั่งจังหวัดลำปาง ที่ 6059/2568 ลงวันที่ 27 พฤศจิกายน 2568
B29: ( ลงชื่อ ) ................................................. ประธานกรรมการ
B30: (นายยุทธนา ถาวงค์)
B31: ( ลงชื่อ ) ................................................. กรรมการ
B32: (นายธนภัทร อุ่ยเจริญ)
B33: ( ลงชื่อ ) ................................................. กรรมการ
B34: (นายพิทักษ์ ศิริบุตร)

Sheet สรุปหมวดงาน
B1: แบบสรุปค่าก่อสร้างของงานก่อสร้างอาคาร
B2: โครงการก่อสร้าง | D2: =Boq!D2 -> รั้วพร้อมป้ายชื่อสำนักงานสาธารณสุขอำเภอเถิน | F2: =Boq!J2 -> 0
B3: สถานที่ก่อสร้าง | D3: =Boq!D3 -> สำนักงานสาธารณสุขอำเภอเถิน อำเภอเถิน จังหวัดลำปาง | E3: เอกสารเลขที่ | F3: =Boq!J3 -> -
B4: ลำดับ | C4: รายการ | E4: ราคาค่าก่อสร้างฐานรากชนิด | G4: หมายเหตุ
E5: ไม่ตอกเสาเข็ม | F5: ตอกเสาเข็ม คอร
C6: ส่วนที่ 1 ค่าวัสดุและค่าแรงงานหมวดงานก่อสร้าง (ทุน)
B7: 1 | C7: กลุ่มงานที่ 1
C8: (คิดเฉพาะค่าวัสดุและค่าแรงงานหรือทุนซึ่งยังไม่รวมค่าอำนวยการ ดอกเบี้ย กำไร และภาษี)
D9: =Boq!C11 -> งานรั้วด้านหน้า(ยาวประมาณ 25.50 ม.) และประตูรั้ว(2 ชุด) | E9: =Boq!K65 -> 270706.7
D10: =Boq!C89 -> งานป้ายชื่อ | E10: =Boq!K154 -> 191535
D11: =Boq!C173 -> งานรั้วเหล็กโปร่ง | E11: =Boq!K184 -> 335300
D12: =Boq!C215 -> งานรั้วบล็อคทึบ | E12: =Boq!K233 -> 308639.91
D19: รวมค่างานกลุ่มงานที่ 1 | E19: =SUM(E9:E18) -> 1106181.6 | F19: =SUM(F9:F18) -> 0
B20: 2 | C20: กลุ่มงานที่ 2
C21: (คิดเฉพาะค่าวัสดุและค่าแรงงานหรือทุนซึ่งยังไม่รวมค่าอำนวยการ ดอกเบี้ย กำไร และภาษี)
C22: 2.1 | D22: งานระบบปรับอากาศ และระบายอากาศ | E22: 0 | F22: 0
C23: 2.2 | D23: งานระบบลิฟท์ | E23: 0 | F23: 0
C24: 2.3 | D24: งานระบบพิเศษอื่นๆ
D25: 2..3.2 ระบบโทรศัพท์ | E25: 0 | F25: 0
D27: รวมค่างานกลุ่มงานที่ 2 | E27: =SUM(E20:E26) -> 0 | F27: =SUM(F20:F26) -> 0
B28: 3 | C28: กลุ่มงานที่ 3
C29: (คิดเฉพาะค่าวัสดุและค่าแรงงานหรือทุนซึ่งยังไม่รวมค่าอำนวยการ ดอกเบี้ย กำไร และภาษี)
C30: 3.1 | D30: งานครุภัณฑ์สั่งทำ (จัดจ้าง) และงานตกแต่งภายในอาคาร
D32: รวมค่างานกลุ่มงานที่ 3 | E32: =SUM(E28:E31) -> 0 | F32: =SUM(F28:F31) -> 0
B33: 4 | C33: กลุ่มงานที่ 4
C34: (คิดเฉพาะค่าวัสดุและค่าแรงงานหรือทุนซึ่งยังไม่รวมค่าอำนวยการ ดอกเบี้ย กำไร และภาษี)
C35: 4.1 | D35: งานภูมิทัศน์
D37: รวมค่างานกลุ่มงานที่ 4 | E37: =SUM(E33:E36) -> 0 | F37: =SUM(F33:F36) -> 0
C38: รวมค่างานส่วนที่ 1 | E38: =SUM(E37,E32,E27,E19) -> 1106181.6 | F38: =SUM(F37,F32,F27,F19) -> 0

Sheet Boq
B1: บัญชีแสดงปริมาณวัสดุและราคา
B2: โครงการก่อสร้าง | D2: รั้วพร้อมป้ายชื่อสำนักงานสาธารณสุขอำเภอเถิน | I2: แบบเลขที่
B3: สถานที่ก่อสร้าง | D3: สำนักงานสาธารณสุขอำเภอเถิน อำเภอเถิน จังหวัดลำปาง | I3: เอกสารเลขที่ | J3: -
B4: ผู้ประมาณการ | D4: นายพิทักษ์ ศิริบุตร | E4: วันที่ประมาณราคา | G4: 4 ธันวาคม 2568
B5: ผู้ปรับราคา
B6: ผู้ตรวจสอบ
B9: ลำดับ | C9: รายการ | E9: หน่วย | F9: จำนวน | G9: ค่าวัสดุ | I9: ค่าแรงงาน | K9: รวมเงิน
G10: ต่อหน่วย | H10: เป็นเงิน | I10: ต่อหน่วย | J10: เป็นเงิน
C11: งานรั้วด้านหน้า(ยาวประมาณ 25.50 ม.) และประตูรั้ว(2 ชุด)
C12: งานโครงสร้าง
B13: 1 | C13: ขุดดิน-ถมคืน | E13: ลบ.ม. | F13: 41 | G13: 0 | H13: =+F13*G13 -> 0 | I13: 99 | J13: =F13*I13 -> 4059 | K13: =(G13+I13)*F13 -> 4059
B14: 2 | C14: ดินถมปรับพื้น | E14: ลบ.ม. | F14: 20 | G14: 90 | H14: =F14*G14 -> 1800 | I14: 20 | J14: =F14*I14 -> 400 | K14: =(G14+I14)*F14 -> 2200
B15: 3 | C15: ทรายหยาบรองพื้น | E15: ลบ.ม. | F15: 3 | G15: 327 | H15: =F15*G15 -> 981 | I15: 20 | J15: =F15*I15 -> 60 | K15: =(G15+I15)*F15 -> 1041
B16: 4 | C16: คอนกรีต 1:2:4 | E16: ลบ.ม. | F16: 15 | G16: 1940 | H16: =+G16*F16 -> 29100 | I16: 485 | J16: =F16*I16 -> 7275 | K16: =(G16+I16)*F16 -> 36375
B17: 5 | C17: เหล็กเส้นกลม | D17: RB 6 มม. | E17: กก. | F17: 132 | G17: 26.488 | H17: =F17*G17 -> 3496.416 | I17: 4 | J17: =F17*I17 -> 528 | K17: =(G17+I17)*F17 -> 4024.416
D18: RB 12 มม. | E18: กก. | F18: 800 | G18: 25.388 | H18: =F18*G18 -> 20310.4 | I18: 4 | J18: =F18*I18 -> 3200 | K18: =(G18+I18)*F18 -> 23510.4
B19: 6 | C19: ลวดผูกเหล็ก | E19: กก. | F19: 12 | G19: 42.99 | H19: =F19*G19 -> 515.88 | I19: 0 | J19: =F19*I19 -> 0 | K19: =(G19+I19)*F19 -> 515.88
B20: 7 | C20: งานไม้แบบ | E20: ตร.ม. | F20: 15 | G20: 180 | H20: =F20*G20 -> 2700 | I20: 0 | J20: =F20*I20 -> 0 | K20: =(G20+I20)*F20 -> 2700
B21: 8 | C21: ค่าแรงงานไม้แบบ | E21: ตร.ม. | F21: 30 | G21: 0 | H21: =F21*G21 -> 0 | I21: 90 | J21: =F21*I21 -> 2700 | K21: =(G21+I21)*F21 -> 2700
B22: 9 | C22: ตะปู | E22: กก. | F22: 12 | G22: 39 | H22: =F22*G22 -> 468 | I22: 0 | J22: =F22*I22 -> 0 | K22: =(G22+I22)*F22 -> 468
C24: รวมงานโครงสร้าง | H24: =SUM(H13:H23) -> 59371.696 | J24: =SUM(J13:J23) -> 18222 | K24: =SUM(K13:K23) -> 77593.696
C26: งานเหล็ก
B27: 1 | C27: เหล็กกล่อง 1"x2" | E27: ท่อน | F27: 39 | G27: 520 | H27: =F27*G27 -> 20280 | J27: =F27*I27 -> 0 | K27: =(G27+I27)*F27 -> 20280
B28: 2 | C28: เหล็กกล่อง 1/2x1/2 นิ้ว | E28: ท่อน | F28: 112 | G28: 255 | H28: =F28*G28 -> 28560 | I28: 0 | J28: =F28*I28 -> 0 | K28: =(G28+I28)*F28 -> 28560
B29: 3 | C29: ค่าแรงประกอบติดตั้งงานแผงเหล็ก รวมอุปกรณ์เชื่อม | E29: ชุด | F29: 6 | G29: 220 | H29: =+F29*G29 -> 1320 | I29: 1600 | J29: =F29*I29 -> 9600 | K29: =(G29+I29)*F29 -> 10920
B30: 4 | C30: งานประตูพร้อมอุปกรณ์บานเลื่อน | E30: ชุด | F30: 2 | G30: 26500 | H30: =F30*G30 -> 53000 | I30: 3500 | J30: =F30*I30 -> 7000 | K30: =(G30+I30)*F30 -> 60000
B31: 5 | C31: งานสีเหล็กรั้ว | E31: ชุด | F31: 6 | G31: 850 | H31: =F31*G31 -> 5100 | I31: 400 | J31: =F31*I31 -> 2400 | K31: =(G31+I31)*F31 -> 7500
B32: 6 | C32: งานสีเหล็กประตู | E32: ชุด | F32: 2 | G32: 2600 | H32: =F32*G32 -> 5200 | I32: 800 | J32: =F32*I32 -> 1600 | K32: =(G32+I32)*F32 -> 6800
C34: รวมงานเหล็ก | H34: =SUM(H27:H33) -> 113460 | J34: =SUM(J27:J33) -> 20600 | K34: =SUM(K27:K33) -> 134060
B43: โครงการก่อสร้าง | D43: =D2 -> รั้วพร้อมป้ายชื่อสำนักงานสาธารณสุขอำเภอเถิน | H43: สสจ.ลป.
B44: สถานที่ก่อสร้าง | D44: =D3 -> สำนักงานสาธารณสุขอำเภอเถิน อำเภอเถิน จังหวัดลำปาง | G44: เอกสารเลขที่
B45: ลำดับ | C45: รายการ | E45: หน่วย | F45: จำนวน | G45: ค่าวัสดุ | I45: ค่าแรงงาน | K45: รวมเงิน
G46: ต่อหน่วย | H46: เป็นเงิน | I46: ต่อหน่วย | J46: เป็นเงิน
C48: งานผนัง-ผิวผนัง
B49: 1 | C49: ผนังก่ออิฐ | E49: ตร.ม. | F49: 23 | G49: 385 | H49: =F49*G49 -> 8855 | I49: 130 | J49: =F49*I49 -> 2990 | K49: =(G49+I49)*F49 -> 11845
B50: 2 | C50: งานฉาบผนัง,เสา,คาน | E50: ตร.ม. | F50: 74 | G50: 70 | H50: =F50*G50 -> 5180 | I50: 100 | J50: =F50*I50 -> 7400 | K50: =(G50+I50)*F50 -> 12580
B51: 3 | C51: งานกรุกระเบื้องผนัง | E51: ตร.ม. | F51: 3 | G51: 535 | H51: =F51*G51 -> 1605 | I51: 180 | J51: =F51*I51 -> 540 | K51: =(G51+I51)*F51 -> 2145
B52: 4 | C52: งานสีรองพื้น | E52: ตร.ม. | F52: 74 | G52: 29 | H52: =+F52*G52 -> 2146 | I52: 30 | J52: =F52*I52 -> 2220 | K52: =(G52+I52)*F52 -> 4366
B53: 5 | C53: งานสีน้ำพลาสติค | E53: ตร.ม. | F53: 74 | G53: 44 | H53: =F53*G53 -> 3256 | I53: 34 | J53: =F53*I53 -> 2516 | K53: =(G53+I53)*F53 -> 5772
C55: รวมงานผนัง-ผิวผนัง | H55: =SUM(H49:H54) -> 21042 | J55: =SUM(J49:J54) -> 15666 | K55: =SUM(K49:K54) -> 36708
C57: งานระบบไฟฟ้า
B58: 1 | C58: โคมไฟหลอดกลม LED E27 1x9 W. | E58: ชุด | F58: 12 | G58: 950 | H58: =F58*G58 -> 11400 | I58: 135 | J58: =F58*I58 -> 1620 | K58: =(G58+I58)*F58 -> 13020
B59: 2 | C59: เบรคเกอร์ และสวิทช์ (คุมเสาประตู, คุมไฟรั้ว สลับเสา) | E59: งาน | F59: 1 | G59: 550 | H59: =F59*G59 -> 550 | I59: 125 | J59: =F59*I59 -> 125 | K59: =(G59+I59)*F59 -> 675
B60: 3 | C60: เดินสายไฟฟ้าเดินลอย | E60: จุด | F60: 12 | G60: 300 | H60: =F60*G60 -> 3600 | I60: 100 | J60: =F60*I60 -> 1200 | K60: =(G60+I60)*F60 -> 4800
B61: 4 | C61: งานเดินสายเมนไฟฟ้า เข้าต่อระบบเมนควบคุม | E61: งาน | F61: 1 | G61: 3250 | H61: =F61*G61 -> 3250 | I61: 600 | J61: =F61*I61 -> 600 | K61: =(G61+I61)*F61 -> 3850
C63: รวมงานระบบไฟฟ้า | H63: =SUM(H58:H61) -> 18800 | J63: =SUM(J58:J61) -> 3545 | K63: =SUM(K58:K61) -> 22345
C65: รวมราคางานรั้วด้านหน้าและประตู | K65: =K24+K34+K55+K63 -> 270706.7
B85: โครงการก่อสร้าง | D85: =D2 -> รั้วพร้อมป้ายชื่อสำนักงานสาธารณสุขอำเภอเถิน | H85: สสจ.ลป.
B86: สถานที่ก่อสร้าง | D86: =D3 -> สำนักงานสาธารณสุขอำเภอเถิน อำเภอเถิน จังหวัดลำปาง | G86: เอกสารเลขที่
B87: ลำดับ | C87: รายการ | E87: หน่วย | F87: จำนวน | G87: ค่าวัสดุ | I87: ค่าแรงงาน | K87: รวมเงิน
G88: ต่อหน่วย | H88: เป็นเงิน | I88: ต่อหน่วย | J88: เป็นเงิน
C89: งานป้ายชื่อ
B90: 1 | C90: ขุดดิน-ถมคืน | E90: ลบ.ม. | F90: 13 | G90: 0 | H90: =+F90*G90 -> 0 | I90: 99 | J90: =F90*I90 -> 1287 | K90: =(G90+I90)*F90 -> 1287
B91: 2 | C91: ดินถมปรับพื้น | E91: ลบ.ม. | F91: 20 | G91: 90 | H91: =F91*G91 -> 1800 | I91: 20 | J91: =F91*I91 -> 400 | K91: =(G91+I91)*F91 -> 2200
B92: 3 | C92: ทรายหยาบรองพื้น | E92: ลบ.ม. | F92: 3 | G92: 327 | H92: =F92*G92 -> 981 | I92: 20 | J92: =F92*I92 -> 60 | K92: =(G92+I92)*F92 -> 1041
B93: 4 | C93: คอนกรีต 1:2:4 | E93: ลบ.ม. | F93: 22 | G93: 1940 | H93: =+G93*F93 -> 42680 | I93: 485 | J93: =F93*I93 -> 10670 | K93: =(G93+I93)*F93 -> 53350
B94: 5 | C94: เหล็กเส้นกลม | D94: RB 6 มม. | E94: กก. | F94: 132 | G94: 26.488 | H94: =F94*G94 -> 3496.416 | I94: 4 | J94: =F94*I94 -> 528 | K94: =(G94+I94)*F94 -> 4024.416
D95: RB 12 มม. | E95: กก. | F95: 800 | G95: 25.388 | H95: =F95*G95 -> 20310.4 | I95: 4 | J95: =F95*I95 -> 3200 | K95: =(G95+I95)*F95 -> 23510.4
B96: 6 | C96: ลวดผูกเหล็ก | E96: กก. | F96: 12 | G96: 42.99 | H96: =F96*G96 -> 515.88 | I96: 0 | J96: =F96*I96 -> 0 | K96: =(G96+I96)*F96 -> 515.88
B97: 7 | C97: งานไม้แบบ | E97: ตร.ม. | F97: 15 | G97: 180 | H97: =F97*G97 -> 2700 | I97: 0 | J97: =F97*I97 -> 0 | K97: =(G97+I97)*F97 -> 2700
B98: 8 | C98: ค่าแรงงานไม้แบบ | E98: ตร.ม. | F98: 30 | G98: 0 | H98: =F98*G98 -> 0 | I98: 90 | J98: =F98*I98 -> 2700 | K98: =(G98+I98)*F98 -> 2700
B99: 9 | C99: เหล็กตะแกรงสำเร็จรูป | E99: ตร.ม. | F99: 12 | G99: 45 | H99: =F99*G99 -> 540 | I99: 5 | J99: =F99*I99 -> 60 | K99: =(G99+I99)*F99 -> 600
B100: 10 | C100: ตะปู | E100: กก. | F100: 6 | G100: 39 | H100: =F100*G100 -> 234 | I100: 0 | J100: =F100*I100 -> 0 | K100: =(G100+I100)*F100 -> 234
C102: รวมงานโครงสร้าง | H102: =SUM(H90:H101) -> 73257.696 | J102: =SUM(J90:J101) -> 18905 | K102: =SUM(K90:K101) -> 92162.696
C104: งานป้าย และ Tower
B105: 1 | C105: เหล็กกล่องซิ้งค์ 4"x4" | E105: ท่อน | F105: 5 | G105: 2350 | H105: =F105*G105 -> 11750 | J105: =F105*I105 -> 0 | K105: =(G105+I105)*F105 -> 11750
B106: 2 | C106: เหล็กกล่อง 2"x2" | E106: ท่อน | F106: 24 | G106: 735 | H106: =F106*G106 -> 17640 | J106: =F106*I106 -> 0 | K106: =(G106+I106)*F106 -> 17640
B107: 3 | C107: เหล็กกล่อง 1"x2" | E107: ท่อน | F107: 12 | G107: 520 | H107: =F107*G107 -> 6240 | J107: =F107*I107 -> 0 | K107: =(G107+I107)*F107 -> 6240
B108: 4 | C108: เหล็กกล่อง 1/2x1/2 นิ้ว | E108: ท่อน | F108: 24 | G108: 255 | H108: =F108*G108 -> 6120 | I108: 0 | J108: =F108*I108 -> 0 | K108: =(G108+I108)*F108 -> 6120
B109: 5 | C109: ค่าแรงประกอบติดตั้งงานโครงป้าย รวมอุปกรณ์เชื่อม | E109: งาน | F109: 1 | G109: 2200 | H109: =+F109*G109 -> 2200 | I109: 6800 | J109: =F109*I109 -> 6800 | K109: =(G109+I109)*F109 -> 9000
B110: 6 | C110: งานสีโครงเหล็ก | E110: งาน | F110: 1 | G110: 3650 | H110: =F110*G110 -> 3650 | I110: 1200 | J110: =F110*I110 -> 1200 | K110: =(G110+I110)*F110 -> 4850
C112: รวมงาน | H112: =SUM(H105:H111) -> 47600 | J112: =SUM(J105:J111) -> 8000 | K112: =SUM(K105:K111) -> 55600
B127: โครงการก่อสร้าง | D127: =D2 -> รั้วพร้อมป้ายชื่อสำนักงานสาธารณสุขอำเภอเถิน | H127: สสจ.ลป.
B128: สถานที่ก่อสร้าง | D128: =D3 -> สำนักงานสาธารณสุขอำเภอเถิน อำเภอเถิน จังหวัดลำปาง | G128: เอกสารเลขที่
B129: ลำดับ | C129: รายการ | E129: หน่วย | F129: จำนวน | G129: ค่าวัสดุ | I129: ค่าแรงงาน | K129: รวมเงิน
G130: ต่อหน่วย | H130: เป็นเงิน | I130: ต่อหน่วย | J130: เป็นเงิน
C132: งานผนัง-ผิวผนัง พื้น
B133: 1 | C133: ผนังก่ออิฐ | E133: ตร.ม. | F133: 26 | G133: 385 | H133: =F133*G133 -> 10010 | I133: 130 | J133: =F133*I133 -> 3380 | K133: =(G133+I133)*F133 -> 13390
B134: 2 | C134: งานฉาบผนัง,เสา,คาน | E134: ตร.ม. | F134: 55 | G134: 70 | H134: =F134*G134 -> 3850 | I134: 100 | J134: =F134*I134 -> 5500 | K134: =(G134+I134)*F134 -> 9350
B135: 3 | C135: งานกรุผนังคอมโพสิต(ป้าย TOWER) | E135: ตร.ม. | F135: 55 | G135: 1450 | H135: =F135*G135 -> 79750 | I135: 220 | J135: =F135*I135 -> 12100 | K135: =(G135+I135)*F135 -> 91850
B136: 4 | C136: งานกรุผิวพื้น กระเบื้องเคลือบ | E136: ตร.ม. | F136: 20 | G136: 425 | H136: =F136*G136 -> 8500 | I136: 130 | J136: =F136*I136 -> 2600 | K136: =(G136+I136)*F136 -> 11100
B137: 5 | C137: งานป้ายโลโก้กระทรวงรวมไฟ | E137: งาน | F137: 2 | G137: 4500 | H137: =F137*G137 -> 9000 | I137: 800 | J137: =F137*I137 -> 1600 | K137: =(G137+I137)*F137 -> 10600
B138: 6 | C138: งานป้ายตัวอักษรไฟ LED (สำนักงานสาธารณสุขอำเภอเถิน) | E138: งาน | F138: 1 | G138: 12500 | H138: =F138*G138 -> 12500 | I138: 2500 | J138: =F138*I138 -> 2500 | K138: =(G138+I138)*F138 -> 15000
B139: 7 | C139: งานสีรองพื้น | E139: ตร.ม. | F139: 55 | G139: 29 | H139: =+F139*G139 -> 1595 | I139: 30 | J139: =F139*I139 -> 1650 | K139: =(G139+I139)*F139 -> 3245
B140: 8 | C140: งานสีน้ำพลาสติค | E140: ตร.ม. | F140: 55 | G140: 44 | H140: =F140*G140 -> 2420 | I140: 34 | J140: =F140*I140 -> 1870 | K140: =(G140+I140)*F140 -> 4290
C142: รวมงานผนัง-ผิวผนัง | H142: =SUM(H133:H141) -> 127625 | J142: =SUM(J133:J141) -> 31200 | K142: =SUM(K133:K141) -> 158825
C144: งานระบบไฟฟ้า
B145: 1 | C145: โคมไฟหลอดกลม LED E27 1x9 W. | E145: ชุด | F145: 6 | G145: 950 | H145: =F145*G145 -> 5700 | I145: 135 | J145: =F145*I145 -> 810 | K145: =(G145+I145)*F145 -> 6510
B146: 2 | C146: ไฟเส้น LED สำหรับหน้าป้าย TOWER พร้อมผิวปิด | E146: ด้าน | F146: 2 | G146: 5300 | H146: =F146*G146 -> 10600 | I146: 1200 | J146: =F146*I146 -> 2400 | K146: =(G146+I146)*F146 -> 13000
B147: 3 | C147: งานโคมไฟส่องป้าย และประดับป้ายสำนักงาน | E147: งาน | F147: 1 | G147: 2400 | H147: =F147*G147 -> 2400 | I147: 1000 | J147: =F147*I147 -> 1000 | K147: =(G147+I147)*F147 -> 3400
B148: 4 | C148: เบรคเกอร์ และสวิทช์ | E148: งาน | F148: 1 | G148: 1200 | H148: =F148*G148 -> 1200 | I148: 200 | J148: =F148*I148 -> 200 | K148: =(G148+I148)*F148 -> 1400
B149: 5 | C149: เดินสายไฟฟ้าเดินลอย | E149: จุด | F149: 6 | G149: 300 | H149: =F149*G149 -> 1800 | I149: 100 | J149: =F149*I149 -> 600 | K149: =(G149+I149)*F149 -> 2400
B150: 6 | C150: งานเดินสายเมนไฟฟ้า เข้าต่อระบบเมนควบคุม | E150: งาน | F150: 1 | G150: 4500 | H150: =F150*G150 -> 4500 | I150: 1500 | J150: =F150*I150 -> 1500 | K150: =(G150+I150)*F150 -> 6000
C152: รวมงานระบบไฟฟ้า | H152: =SUM(H145:H150) -> 26200 | J152: =SUM(J145:J150) -> 6510 | K152: =SUM(K145:K150) -> 32710
C154: รวมราคางานป้ายชื่อ | K154: =K64+K74+K142+K152 -> 191535
B169: โครงการก่อสร้าง | D169: =D2 -> รั้วพร้อมป้ายชื่อสำนักงานสาธารณสุขอำเภอเถิน | H169: สสจ.ลป.
B170: สถานที่ก่อสร้าง | D170: =D3 -> สำนักงานสาธารณสุขอำเภอเถิน อำเภอเถิน จังหวัดลำปาง | G170: เอกสารเลขที่
B171: ลำดับ | C171: รายการ | E171: หน่วย | F171: จำนวน | G171: ค่าวัสดุ | I171: ค่าแรงงาน | K171: รวมเงิน
G172: ต่อหน่วย | H172: เป็นเงิน | I172: ต่อหน่วย | J172: เป็นเงิน
C173: งานรั้วเหล็กโปร่ง
...

Sheet คำนวณ Factor F
B2: การคำนวณหาค่า Factor-F เฉลี่ย | F2: ตาราง Factor F งานอาคาร
F3: เงินล่วงหน้าจ่าย | G3: 0
F4: เงินประกันผลงานหัก | G4: 0
B5: ราคาค่าวัสดุและค่าแรงที่ประมาณราคาได้ | D5: =ปะหน้า!H15 -> 1106181.6 | E5: บาท | F5: ดอกเบี้ยเงินกู้ | G5: 0.07
B6: Factor F = | C6: D - ((D-E)*(A-B)/(C-B)) | F6: ค่าภาษีมูลค่าเพิ่ม | G6: 0.07
B8: B | C8: =F11 -> 1000000 | D8: B : ค่างานต้นทุนต่ำ | F8: ค่างานต้นทุน | G8: Factor F
B9: A | C9: =D5 -> 1106181.6 | D9: A : ค่างานต้นทุนที่ประมาณราคาได้ | F9: (บาท)
B10: C | C10: =F12 -> 2000000 | D10: C : ค่างานต้นทุนสูง | F10: 500000 | G10: 1.3091
F11: 1000000 | G11: 1.3067
B12: D | C12: =VLOOKUP(C8,$F$10:$G$33,2,FALSE) -> 1.3067 | D12: D : Factor F ทุนต่ำ | F12: 2000000 | G12: 1.3051
B13: E | C13: =VLOOKUP(C10,$F$10:$G$33,2,FALSE) -> 1.3051 | D13: E : Factor F ทุนสูง | F13: 5000000 | G13: 1.302
B14: Factor F = | C14: =ROUND(C12-(((C12-C13)*(C9-C8))/(C10-C8)),4) -> 1.3065 | D14: นำค่านี้ไปใช้ในการคำนวณ | F14: 10000000 | G14: 1.296
F15: 15000000 | G15: 1.2611
B16: A * Factor F | C16: =C9*C14 -> 1445226.3 | F16: 20000000 | G16: 1.2535
F17: 25000000 | G17: 1.2265
F18: 30000000 | G18: 1.2181
F19: 40000000 | G19: 1.2177
F20: 50000000 | G20: 1.2176
F21: 60000000 | G21: 1.2078
F22: 70000000 | G22: 1.2067
F23: 80000000 | G23: 1.2067
F24: 90000000 | G24: 1.2066
F25: 100000000 | G25: 1.2066
F26: 150000000 | G26: 1.2039
F27: 200000000 | G27: 1.2039
F28: 250000000 | G28: 1.2031
... F33: 500000001 | G33: 1.1805
