Workbook
Name _FAC1: [1]สรุป!$C$307
Name factor_table: 'คำนวณ Factor F'!$B$10:$B$33

Sheet laroux

Sheet ปะหน้า
B1: สรุปผลการประมาณราคาค่าก่อสร้าง
B2: ส่วนราชการ งานพัสดุ กลุ่มงานบริหารทั่วไป สำนักงานสาธารณสุขจังหวัดลำปาง
C3: ประเภท | D3: =Boq!D2 -> รั้วพร้อมป้ายชื่อสำนักงานสาธารณสุขอำเภอเถิน
C4: เจ้าของอาคาร | D4: =Boq!D3 -> สำนักงานสาธารณสุขอำเภอเถิน อำเภอเถิน จังหวัดลำปาง
C5: หน่วยงานออกแบบแปลนและรายการ | F5: งานพัสดุ สำนักงานสาธารณสุขจังหวัดลำปาง
C6: แบบเลขที่ | D6: =Boq!J2 -> 0 | H6: พื้นที่อาคาร | J6: ตร.ม.
C7: ประมาณราคาตามแบบ ปร.4 | E7: จำนวน | F7: 7 | G7: แผ่น | H7: จำนวนชั้น | I7: 1 | J7: ชั้น
C8: ประมาณราคาเมื่อ เดือน | E8: ธันวาคม 2568
B10: หลักเกณฑ์การกำหนดราคากลางงานก่อสร้าง หนังสือกระทรวงการคลังที่ กค 0433.2/ว499 ลงวันที่ 28 สิงหาคม 2566
B11: FACTOR . F ประเภทงานอาคาร เงื่อนไข - เงินล่วงหน้าจ่าย 0% , - เงินประกันผลงานหัก 0 % , - ดอกเบี้ยเงินกู้ 7 % , ค่าภาษีมูลค่าเพิ่ม 7 %
B13: ลำดับที่ | C13: รายการ | H13: ราคาค่าก่อสร้างชนิดฐานราก | J13: หมายเหตุ
H14: ไม่ตอกเสาเข็ม
B15: 1 | C15: ค่างานส่วนที่ 1 ค่าวัสดุและค่าแรงงานหมวดงานก่อสร้าง (ทุน) | H15: =สรุปหมวดงาน!E38 -> 1106181.6
C16: ราคารวมค่า Factor F | F16: ='คำนวณ Factor F'!C14 -> 1.3065 | H16: =H15*F16 -> 1445226.3
B17: 2 | C17: ค่างานส่วนที่ 2 หมวดงานครุภัณฑ์สั่งซื้อหรือจัดซื้อ | H17: 0
C18: ราคารวมค่าภาษีมูลค่าเพิ่ม (VAT) | F18: 7 % | H18: =H17*F18+(H17) -> 0
B19: 3 | C19: ค่างานส่วนที่ 3 ค่าใช้จ่ายพิเศษตามข้อกำหนด (ถ้ามี) | H19: =[2]สรุปหมวดงาน!E53 -> 0
B21: รวมเงิน (1)+(2)+(3) | H21: =H16+H18+H19 -> 1445226.3
B22: คิดเป็นเงินทั้งสิ้นโดยประมาณ | H22: =L22 -> 1445200 | L22: =(CEILING(INT(H21/50),2))*50 -> 1445200
C23: =BAHTTEXT(H22) -> หนึ่งล้านสี่แสนสี่หมื่นห้าพันสองร้อยบาทถ้วน
B27: ผู้ปรับราคา คณะกรรมการกำหนดราคากลางงานก่อสร้าง ตามคำสั่งจังหวัดลำปาง ที่ 6059/2568 ลงวันที่ 27 พฤศจิกายน 2568
B29: ( ลงชื่อ ) ................................................. ประธานกรรมการ
B30: (นายยุทธนา ถาวงค์)
B31: ( ลงชื่อ ) ................................................. กรรมการ
B32: (นายธนภัทร อุ่ยเจริญ)
B33: ( ลงชื่อ ) ................................................. กรรมการ
B34: (นายพิทักษ์ ศิริบุตร)

Sheet สรุปหมวดงาน
B1: แบบสรุปค่าก่อสร้างของงานก่อสร้างอาคาร
B2: โครงการก่อสร้าง | D2: =Boq!D2 -> รั้วพร้อมป้ายชื่อสำนักงานสาธารณสุขอำเภอเถิน | F2: =Boq!J2 -> 0
B3: สถานที่ก่อสร้าง | D3: =Boq!D3 -> สำนักงานสาธารณสุขอำเภอเถิน อำเภอเถิน จังหวัดลำปาง | E3: เอกสารเลขที่ | F3: =Boq!J3 -> -
B4: ลำดับ | C4: รายการ | E4: ราคาค่าก่อสร้างฐานรากชนิด | G4: หมายเหตุ
E5: ไม่ตอกเสาเข็ม | F5: ตอกเสาเข็ม คอร
C6: ส่วนที่ 1 ค่าวัสดุและค่าแรงงานหมวดงานก่อสร้าง (ทุน)
B7: 1 | C7: กลุ่มงานที่ 1
C8: (คิดเฉพาะค่าวัสดุและค่าแรงงานหรือทุนซึ่งยังไม่รวมค่าอำนวยการ ดอกเบี้ย กำไร และภาษี)
D9: =Boq!C11 -> งานรั้วด้านหน้า(ยาวประมาณ 25.50 ม.) และประตูรั้ว(2 ชุด) | E9: =Boq!K65 -> 270706.7
D10: =Boq!C89 -> งานป้ายชื่อ | E10: =Boq!K154 -> 191535
D11: =Boq!C173 -> งานรั้วเหล็กโปร่ง | E11: =Boq!K184 -> 335300
D12: =Boq!C215 -> งานรั้วบล็อคทึบ | E12: =Boq!K233 -> 308639.91
D19: รวมค่างานกลุ่มงานที่ 1 | E19: =SUM(E9:E18) -> 1106181.6 | F19: =SUM(F9:F18) -> 0
B20: 2 | C20: กลุ่มงานที่ 2
C21: (คิดเฉพาะค่าวัสดุและค่าแรงงานหรือทุนซึ่งยังไม่รวมค่าอำนวยการ ดอกเบี้ย กำไร และภาษี)
C22: 2.1 | D22: งานระบบปรับอากาศ และระบายอากาศ | E22: 0 | F22: 0
C23: 2.2 | D23: งานระบบลิฟท์ | E23: 0 | F23: 0
C24: 2.3 | D24: งานระบบพิเศษอื่นๆ
D25: 2..3.2 ระบบโทรศัพท์ | E25: 0 | F25: 0
D27: รวมค่างานกลุ่มงานที่ 2 | E27: =SUM(E20:E26) -> 0 | F27: =SUM(F20:F26) -> 0
B28: 3 | C28: กลุ่มงานที่ 3
C29: (คิดเฉพาะค่าวัสดุและค่าแรงงานหรือทุนซึ่งยังไม่รวมค่าอำนวยการ ดอกเบี้ย กำไร และภาษี)
C30: 3.1 | D30: งานครุภัณฑ์สั่งทำ (จัดจ้าง) และงานตกแต่งภายในอาคาร
D32: รวมค่างานกลุ่มงานที่ 3 | E32: =SUM(E28:E31) -> 0 | F32: =SUM(F28:F31) -> 0
B33: 4 | C33: กลุ่มงานที่ 4
C34: (คิดเฉพาะค่าวัสดุและค่าแรงงานหรือทุนซึ่งยังไม่รวมค่าอำนวยการ ดอกเบี้ย กำไร และภาษี)
C35: 4.1 | D35: งานภูมิทัศน์
D37: รวมค่างานกลุ่มงานที่ 4 | E37: =SUM(E33:E36) -> 0 | F37: =SUM(F33:F36) -> 0
C38: รวมค่างานส่วนที่ 1 | E38: =SUM(E37,E32,E27,E19) -> 1106181.6 | F38: =SUM(F37,F32,F27,F19) -> 0

Sheet Boq
B1: บัญชีแสดงปริมาณวัสดุและราคา
B2: โครงการก่อสร้าง | D2: รั้วพร้อมป้ายชื่อสำนักงานสาธารณสุขอำเภอเถิน | I2: แบบเลขที่
B3: สถานที่ก่อสร้าง | D3: สำนักงานสาธารณสุขอำเภอเถิน อำเภอเถิน จังหวัดลำปาง | I3: เอกสารเลขที่ | J3: -
B4: ผู้ประมาณการ | D4: นายพิทักษ์ ศิริบุตร | E4: วันที่ประมาณราคา | G4: 4 ธันวาคม 2568
B5: ผู้ปรับราคา
B6: ผู้ตรวจสอบ
B9: ลำดับ | C9: รายการ | E9: หน่วย | F9: จำนวน | G9: ค่าวัสดุ | I9: ค่าแรงงาน | K9: รวมเงิน
G10: ต่อหน่วย | H10: เป็นเงิน | I10: ต่อหน่วย | J10: เป็นเงิน
C11: งานรั้วด้านหน้า(ยาวประมาณ 25.50 ม.) และประตูรั้ว(2 ชุด)
C12: งานโครงสร้าง
B13: 1 | C13: ขุดดิน-ถมคืน | E13: ลบ.ม. | F13: 41 | G13: 0 | H13: =+F13*G13 -> 0 | I13: 99 | J13: =F13*I13 -> 4059 | K13: =(G13+I13)*F13 -> 4059
B14: 2 | C14: ดินถมปรับพื้น | E14: ลบ.ม. | F14: 20 | G14: 90 | H14: =F14*G14 -> 1800 | I14: 20 | J14: =F14*I14 -> 400 | K14: =(G14+I14)*F14 -> 2200
B15: 3 | C15: ทรายหยาบรองพื้น | E15: ลบ.ม. | F15: 3 | G15: 327 | H15: =F15*G15 -> 981 | I15: 20 | J15: =F15*I15 -> 60 | K15: =(G15+I15)*F15 -> 1041
B16: 4 | C16: คอนกรีต 1:2:4 | E16: ลบ.ม. | F16: 15 | G16: 1940 | H16: =+G16*F16 -> 29100 | I16: 485 | J16: =F16*I16 -> 7275 | K16: =(G16+I16)*F16 -> 36375
B17: 5 | C17: เหล็กเส้นกลม | D17: RB 6 มม. | E17: กก. | F17: 132 | G17: 26.488 | H17: =F17*G17 -> 3496.416 | I17: 4 | J17: =F17*I17 -> 528 | K17: =(G17+I17)*F17 -> 4024.416
D18: RB 12 มม. | E18: กก. | F18: 800 | G18: 25.388 | H18: =F18*G18 -> 20310.4 | I18: 4 | J18: =F18*I18 -> 3200 | K18: =(G18+I18)*F18 -> 23510.4
B19: 6 | C19: ลวดผูกเหล็ก | E19: กก. | F19: 12 | G19: 42.99 | H19: =F19*G19 -> 515.88 | I19: 0 | J19: =F19*I19 -> 0 | K19: =(G19+I19)*F19 -> 515.88
B20: 7 | C20: งานไม้แบบ | E20: ตร.ม. | F20: 15 | G20: 180 | H20: =F20*G20 -> 2700 | I20: 0 | J20: =F20*I20 -> 0 | K20: =(G20+I20)*F20 -> 2700
B21: 8 | C21: ค่าแรงงานไม้แบบ | E21: ตร.ม. | F21: 30 | G21: 0 | H21: =F21*G21 -> 0 | I21: 90 | J21: =F21*I21 -> 2700 | K21: =(G21+I21)*F21 -> 2700
B22: 9 | C22: ตะปู | E22: กก. | F22: 12 | G22: 39 | H22: =F22*G22 -> 468 | I22: 0 | J22: =F22*I22 -> 0 | K22: =(G22+I22)*F22 -> 468
C24: รวมงานโครงสร้าง | H24: =SUM(H13:H23) -> 59371.696 | J24: =SUM(J13:J23) -> 18222 | K24: =SUM(K13:K23) -> 77593.696
C26: งานเหล็ก
B27: 1 | C27: เหล็กกล่อง 1"x2" | E27: ท่อน | F27: 39 | G27: 520 | H27: =F27*G27 -> 20280 | J27: =F27*I27 -> 0 | K27: =(G27+I27)*F27 -> 20280
B28: 2 | C28: เหล็กกล่อง 1/2x1/2 นิ้ว | E28: ท่อน | F28: 112 | G28: 255 | H28: =F28*G28 -> 28560 | I28: 0 | J28: =F28*I28 -> 0 | K28: =(G28+I28)*F28 -> 28560
B29: 3 | C29: ค่าแรงประกอบติดตั้งงานแผงเหล็ก รวมอุปกรณ์เชื่อม | E29: ชุด | F29: 6 | G29: 220 | H29: =+F29*G29 -> 1320 | I29: 1600 | J29: =F29*I29 -> 9600 | K29: =(G29+I29)*F29 -> 10920
B30: 4 | C30: งานประตูพร้อมอุปกรณ์บานเลื่อน | E30: ชุด | F30: 2 | G30: 26500 | H30: =F30*G30 -> 53000 | I30: 3500 | J30: =F30*I30 -> 7000 | K30: =(G30+I30)*F30 -> 60000
B31: 5 | C31: งานสีเหล็กรั้ว | E31: ชุด | F31: 6 | G31: 850 | H31: =F31*G31 -> 5100 | I31: 400 | J31: =F31*I31 -> 2400 | K31: =(G31+I31)*F31 -> 7500
B32: 6 | C32: งานสีเหล็กประตู | E32: ชุด | F32: 2 | G32: 2600 | H32: =F32*G32 -> 5200 | I32: 800 | J32: =F32*I32 -> 1600 | K32: =(G32+I32)*F32 -> 6800
C34: รวมงานเหล็ก | H34: =SUM(H27:H33) -> 113460 | J34: =SUM(J27:J33) -> 20600 | K34: =SUM(K27:K33) -> 134060
B43: โครงการก่อสร้าง | D43: =D2 -> รั้วพร้อมป้ายชื่อสำนักงานสาธารณสุขอำเภอเถิน | H43: สสจ.ลป.
B44: สถานที่ก่อสร้าง | D44: =D3 -> สำนักงานสาธารณสุขอำเภอเถิน อำเภอเถิน จังหวัดลำปาง | G44: เอกสารเลขที่
B45: ลำดับ | C45: รายการ | E45: หน่วย | F45: จำนวน | G45: ค่าวัสดุ | I45: ค่าแรงงาน | K45: รวมเงิน
G46: ต่อหน่วย | H46: เป็นเงิน | I46: ต่อหน่วย | J46: เป็นเงิน
C48: งานผนัง-ผิวผนัง
B49: 1 | C49: ผนังก่ออิฐ | E49: ตร.ม. | F49: 23 | G49: 385 | H49: =F49*G49 -> 8855 | I49: 130 | J49: =F49*I49 -> 2990 | K49: =(G49+I49)*F49 -> 11845
B50: 2 | C50: งานฉาบผนัง,เสา,คาน | E50: ตร.ม. | F50: 74 | G50: 70 | H50: =F50*G50 -> 5180 | I50: 100 | J50: =F50*I50 -> 7400 | K50: =(G50+I50)*F50 -> 12580
B51: 3 | C51: งานกรุกระเบื้องผนัง | E51: ตร.ม. | F51: 3 | G51: 535 | H51: =F51*G51 -> 1605 | I51: 180 | J51: =F51*I51 -> 540 | K51: =(G51+I51)*F51 -> 2145
B52: 4 | C52: งานสีรองพื้น | E52: ตร.ม. | F52: 74 | G52: 29 | H52: =+F52*G52 -> 2146 | I52: 30 | J52: =F52*I52 -> 2220 | K52: =(G52+I52)*F52 -> 4366
B53: 5 | C53: งานสีน้ำพลาสติค | E53: ตร.ม. | F53: 74 | G53: 44 | H53: =F53*G53 -> 3256 | I53: 34 | J53: =F53*I53 -> 2516 | K53: =(G53+I53)*F53 -> 5772
C55: รวมงานผนัง-ผิวผนัง | H55: =SUM(H49:H54) -> 21042 | J55: =SUM(J49:J54) -> 15666 | K55: =SUM(K49:K54) -> 36708
...

Sheet คำนวณ Factor F
B2: การคำนวณหาค่า Factor-F เฉลี่ย | F2: ตาราง Factor F งานอาคาร
F3: เงินล่วงหน้าจ่าย | G3: 0
F4: เงินประกันผลงานหัก | G4: 0
B5: ราคาค่าวัสดุและค่าแรงที่ประมาณราคาได้ | D5: =ปะหน้า!H15 -> 1106181.6 | E5: บาท | F5: ดอกเบี้ยเงินกู้ | G5: 0.07
B6: Factor F = | C6: D - ((D-E)*(A-B)/(C-B)) | F6: ค่าภาษีมูลค่าเพิ่ม | G6: 0.07
B8: B | C8: =F11 -> 1000000 | D8: B : ค่างานต้นทุนต่ำ | F8: ค่างานต้นทุน | G8: Factor F
B9: A | C9: =D5 -> 1106181.6 | D9: A : ค่างานต้นทุนที่ประมาณราคาได้ | F9: (บาท)
B10: C | C10: =F12 -> 2000000 | D10: C : ค่างานต้นทุนสูง | F10: 500000 | G10: 1.3091
F11: 1000000 | G11: 1.3067
B12: D | C12: =VLOOKUP(C8,$F$10:$G$33,2,FALSE) -> 1.3067 | D12: D : Factor F ทุนต่ำ | F12: 2000000 | G12: 1.3051
B13: E | C13: =VLOOKUP(C10,$F$10:$G$33,2,FALSE) -> 1.3051 | D13: E : Factor F ทุนสูง | F13: 5000000 | G13: 1.302
B14: Factor F = | C14: =ROUND(C12-(((C12-C13)*(C9-C8))/(C10-C8)),4) -> 1.3065 | D14: นำค่านี้ไปใช้ในการคำนวณ | F14: 10000000 | G14: 1.296
F15: 15000000 | G15: 1.2611
B16: A * Factor F | C16: =C9*C14 -> 1445226.3 | F16: 20000000 | G16: 1.2535
F17: 25000000 | G17: 1.2265
F18: 30000000 | G18: 1.2181
F19: 40000000 | G19: 1.2177
F20: 50000000 | G20: 1.2176
F21: 60000000 | G21: 1.2078
F22: 70000000 | G22: 1.2067
F23: 80000000 | G23: 1.2067
F24: 90000000 | G24: 1.2066
F25: 100000000 | G25: 1.2066
F26: 150000000 | G26: 1.2039
F27: 200000000 | G27: 1.2039
F28: 250000000 | G28: 1.2031
... F33: 500000001 | G33: 1.1805
